BEGIN:VCALENDAR
VERSION:2.0
PRODID:-//Santa Barbara Family Child Care Association - ECPv6.15.20//NONSGML v1.0//EN
CALSCALE:GREGORIAN
METHOD:PUBLISH
X-ORIGINAL-URL:https://www.sbfcca.org/childcare
X-WR-CALDESC:Events for Santa Barbara Family Child Care Association
REFRESH-INTERVAL;VALUE=DURATION:PT1H
X-Robots-Tag:noindex
X-PUBLISHED-TTL:PT1H
BEGIN:VTIMEZONE
TZID:America/Denver
BEGIN:DAYLIGHT
TZOFFSETFROM:-0700
TZOFFSETTO:-0600
TZNAME:MDT
DTSTART:20240310T090000
END:DAYLIGHT
BEGIN:STANDARD
TZOFFSETFROM:-0600
TZOFFSETTO:-0700
TZNAME:MST
DTSTART:20241103T080000
END:STANDARD
BEGIN:DAYLIGHT
TZOFFSETFROM:-0700
TZOFFSETTO:-0600
TZNAME:MDT
DTSTART:20250309T090000
END:DAYLIGHT
BEGIN:STANDARD
TZOFFSETFROM:-0600
TZOFFSETTO:-0700
TZNAME:MST
DTSTART:20251102T080000
END:STANDARD
BEGIN:DAYLIGHT
TZOFFSETFROM:-0700
TZOFFSETTO:-0600
TZNAME:MDT
DTSTART:20260308T090000
END:DAYLIGHT
BEGIN:STANDARD
TZOFFSETFROM:-0600
TZOFFSETTO:-0700
TZNAME:MST
DTSTART:20261101T080000
END:STANDARD
END:VTIMEZONE
BEGIN:VEVENT
DTSTART;TZID=America/Denver:20250919T180000
DTEND;TZID=America/Denver:20250919T200000
DTSTAMP:20260423T091335
CREATED:20250821T210100Z
LAST-MODIFIED:20250821T210100Z
UID:1964-1758304800-1758312000@www.sbfcca.org
SUMMARY:Board Meeting
DESCRIPTION:First board meeting for the new year. Annual Dues need to be paid. \nMeeting at Little Alex’s Restaurant.
URL:https://www.sbfcca.org/childcare/event/board-meeting
END:VEVENT
BEGIN:VEVENT
DTSTART;TZID=America/Denver:20250907T090000
DTEND;TZID=America/Denver:20250907T130000
DTSTAMP:20260423T091335
CREATED:20250821T205939Z
LAST-MODIFIED:20250821T205939Z
UID:1962-1757235600-1757250000@www.sbfcca.org
SUMMARY:PEP Touch a Truck
DESCRIPTION:Come visit our table at this years PEP touch a truck event at SBCC parking lot.
URL:https://www.sbfcca.org/childcare/event/pep-touch-a-truck
END:VEVENT
END:VCALENDAR